Workbook
Name NewMatrix4: Model!$K$3:$AH$22

Sheet Input Sheet
B4: Store Lamb Finishing Calculator
C6: Farmer's name:________________________ | F6: Advisor's name:_________________________
C7: Address:_________________________________ | F7: Contact details:_________________________
C9: Inputs | F9: Outputs
C10: Date of purchase (dd/mm/yy) | D10: 46266 | F10: Date of sale | G10: =Model!B28 -> 46371
C11: Purchase weight (KG) | D11: 30 | F11: Days on farm | G11: =Model!B31 -> 105
C12: Purchase price (€) | D12: 120 | F12: Days on grass alone | G12: =Model!B32 -> 61
C13: Meal feeding at grass date (dd/mm/yy) | D13: 46327 | F13: Gain at grass (KG) | G13: =Model!B78 -> 6.55
C14: Housing date (dd/mm/yy) | D14: 46346 | F14: Days creep feeding | G14: =Model!B33 -> 19
C15: Concentrate Price (€/ T) | D15: 400 | F15: Gain on creep (KG) | G15: =Model!B79 -> 2.285
C16: Veterinary costs (€/lamb) | D16: 3.2 | F16: Weight at housing (KG) | G16: =IF(D14=0,0,HLOOKUP(D14,Model!$B$57:$KS$64,8,FALSE)) -> 38.835
C17: Transport costs (€/lamb) | D17: 2 | F17: Days fed concentrate only | G17: =IF(D14>0,Model!B28-Model!B27,0) -> 25
C18: Other costs (€/lamb) | D18: 2 | F18: Gain on all concentrate diet (KG) | G18: =Model!B80 -> 9
C19: Interest rate (%) | D19: 0 | F19: Concentrate required /lamb (KG) | G19: =Model!B10 -> 35.3
C20: Mortality (%) | D20: 3 | F20: Concentrate required /lamb (€) | G20: =(D15/1000)*G19 -> 14.12
C21: Gender | D21: Ram | F21: Final Lamb live weight (KG) | G21: =D11+G13+G15+G18 -> 47.835
C22: Breed | D22: Crossbred | F22: Carcass weight (KG) | G22: =D24 -> 21.5
C23: Grass Quality | D23: Good | F23: Lamb price (€/KG) | G23: ='Input Sheet'!D25 -> 7.8
C24: Target carcass weight (KG) | D24: 21.5 | F24: Value of Carcass (€) | G24: =(G23*G22)-Model!B21 -> 166.38
C25: Predicted carcass Price €/KG | D25: 7.8 | F25: Expenses | G25: =SUM(Model!B3,Model!B13,Model!B14,Model!B15,Model!B16,Model!B17,Model!B18,Model!B19,Model!B20) -> 154.1098
C26: Projected carcass price €/kG (Historical) | D26: =HLOOKUP(Model!B29,Model!D77:O78,2,FALSE) -> 7.78664 | F26: Margin (€) | G26: =G24-G25 -> 12.2702
F28: Break-even carcass price (€/KG) | G28: =D25-(G26/G22) -> 7.229293
F29: Break-even purchase price | G29: =D12+G26 -> 132.2702
F30: Break-even purchase price (€/KG) | G30: =G29/D11 -> 4.4090067
C32: Disclaimer: This information provided is based on the information supplied by a client and on predicted animal performance in flocks exercising high levels of animal management.
C33: Teagasc or its agents cannot be held responsible for losses incurred as a result of following the guidelines set out in this Store Lamb Finishing Calculator.
C35: For any queries please contact: Alan Bohan - alan.bohan@teagasc.ie

Sheet Model
A1: Starting Livewight | B1: ='Input Sheet'!D11 -> 30 | C1: 28 | D1: =C1*100 -> 2800
A2: Projected Initial Carcass wt | B2: =B1*0.39 -> 11.7 | C2: 10.92 | D2: =C2*100 -> 1092
A3: Purchase Price | B3: ='Input Sheet'!D12 -> 120
A4: Final Live weight | B4: =B5/(B6/100) -> 47.777778
A5: Target carcass weight (KG) | B5: ='Input Sheet'!D24 -> 21.5
A6: Predicted kill out % | B6: =IF(AND('Input Sheet'!D21="Ram",'Input Sheet'!D22="Crossbred"),Model!B96,IF(AND('Input Sheet'!D21="Ram",'Input Sheet'!D22="Mountain"),Model!C96,IF(AND('Input Sheet'!D21="Wether",'Input Sheet'!D22="Crossbred"),Model!D96,IF(AND('Input Sheet'!D21="Wether",'Input Sheet'!D22="Mountain"),Model!E96,IF(AND('Input Sheet'!D21="Ewe",'Input Sheet'!D22="Crossbred"),Model!F96,IF(AND('Input Sheet'!D21="Ewe",'Input Sheet'!D22="Mountain"),Model!G96)))))) -> 45
A7: Final Carcass weight | B7: =B5 -> 21.5
A8: Live weight Gain (KG) | B8: =B4-B1 -> 17.777778
A9: FCE CONCENTRATE | B9: =IF(AND('Input Sheet'!D21="Ram",'Input Sheet'!D22="Crossbred"),Model!B95,IF(AND('Input Sheet'!D21="Ram",'Input Sheet'!D22="Mountain"),Model!C95,IF(AND('Input Sheet'!D21="Wether",'Input Sheet'!D22="Crossbred"),Model!D95,IF(AND('Input Sheet'!D21="Wether",'Input Sheet'!D22="Mountain"),Model!E95,IF(AND('Input Sheet'!D21="Ewe",'Input Sheet'!D22="Crossbred"),Model!F95,IF(AND('Input Sheet'!D21="Ewe",'Input Sheet'!D22="Mountain"),Model!G95)))))) -> 4.73
A10: Meal required (kg) | B10: =B92 -> 35.3
A11: Meal Price / tonne | B11: ='Input Sheet'!D15 -> 400
A12: Grass required (kg/DM) | B12: =(1.5*B32)+(1*B33) -> 110.5
A13: Interest cost | B13: =(((B3*('Input Sheet'!D19/100)*B31))/365)+((B14*('Input Sheet'!D19/100)*B31)/365)+(((SUM(B15,B16,B17,B18,B20))*('Input Sheet'!D19/100)*B31)/365) -> 0
A14: Concentrate cost (€) | B14: =(B11*B10)/1000 -> 14.12
A15: Silage/roughage cost (€) | B15: =(0.01*(B34-7))+0.4 -> 0.58
A16: Grass cost (€) | B16: =B12*(76/1000) -> 8.398
A17: Transport cost (€) | B17: ='Input Sheet'!D17 -> 2
A18: Veterinary cost (€) | B18: ='Input Sheet'!D16 -> 3.2
A19: Mortality cost (€) | B19: =(('Input Sheet'!D20/100)*(B14/2))+(B3*('Input Sheet'!D20/100)) -> 3.8118
A20: Other costs | B20: ='Input Sheet'!D18 -> 2
A21: Factory Deductions | B21: 1.32
A23: Date of purchase | B23: ='Input Sheet'!D10 -> 46266
A24: Does the lamb get creep | B24: =IF('Input Sheet'!D13>0,"Yes","No") -> Yes
A25: Date of grass and creep feeding | B25: =IF(B24="No","Not fed creep",'Input Sheet'!D13) -> 46327
A26: Is the lamb housed for finishing | B26: =IF('Input Sheet'!D14>0,"Yes","No") -> Yes
A27: Date of concentrate feeding | B27: ='Input Sheet'!D14 -> 46346
A28: Date of sale | B28: =B77 -> 46371
A29: Month of sale | B29: =TEXT(B28,"MMMM") -> December
A31: No days on farm | B31: =SUM(B58:KS58) -> 105 | D31: Start of GR
A32: No days at grass alone | B32: =SUM(B59:KS59) -> 61 | C32: =B32/B31 -> 0.58095238 | D32: ='Input Sheet'!D10+7 -> 46273
A33: No days at grass & creep | B33: =SUM(B60:KS60) -> 19 | C33: =B33/B31 -> 0.18095238 | D33: =IF(B24="Yes",'Input Sheet'!D13+3,"NA") -> 46330
A34: No days eating concentrate | B34: =SUM(B61:KS61) -> 25 | C34: =B34/B31 -> 0.23809524 | D34: =B27+3 -> 46349
A36: Year | B36: =YEAR('Input Sheet'!D10) -> 2026
A37: ADG Variable (g/DAY) | B37: =DATE(B36,8,1) -> 46235 | C37: =B37+1 -> 46236 | D37: =C37+1 -> 46237 | E37: =D37+1 -> 46238 | F37: =E37+1 -> 46239 | G37: =F37+1 -> 46240 | H37: =G37+1 -> 46241 | I37: =H37+1 -> 46242 | J37: =I37+1 -> 46243 | ... SY37: =SX37+1 -> 46752
A38: Grass (Texel Ram) | B38: =IF('Input Sheet'!$D$23="Good",150,IF('Input Sheet'!$D$23="Average",100,IF('Input Sheet'!$D$23="Poor",75))) -> 150 | C38: =B38 -> 150 | D38: =C38 -> 150 | E38: =D38 -> 150 | F38: =E38 -> 150 | G38: =F38 -> 150 | H38: =G38 -> 150 | I38: =H38 -> 150 | J38: =I38 -> 150 | ... AF38: =AE38 -> 150 | AG38: =IF('Input Sheet'!$D$23="Good",150,IF('Input Sheet'!$D$23="Average",100,IF('Input Sheet'!$D$23="Poor",75))) -> 150 | AH38: =AG38 -> 150 | AI38: =AH38 -> 150 | AJ38: =AI38 -> 150 | AK38: =AJ38 -> 150 | AL38: =AK38 -> 150 | AM38: =AL38 -> 150 | AN38: =AM38 -> 150 | AO38: =AN38 -> 150 | ... BJ38: =BI38 -> 150 | BK38: =IF('Input Sheet'!$D$23="Good",100,IF('Input Sheet'!$D$23="Average",70,IF('Input Sheet'!$D$23="Poor",55))) -> 100 | BL38: =BK38 -> 100 | BM38: =BK38 -> 100 | BN38: =BM38 -> 100 | BO38: =BN38 -> 100 | BP38: =BO38 -> 100 | BQ38: =BP38 -> 100 | BR38: =BQ38 -> 100 | BS38: =BR38 -> 100 | BT38: =BS38 -> 100 | BU38: =BT38 -> 100 | ... DC38: =DB38 -> 100 | DD38: =IF('Input Sheet'!$D$23="Good",100,IF('Input Sheet'!$D$23="Average",70,IF('Input Sheet'!$D$23="Poor",55))) -> 100 | DE38: =DD38 -> 100 | DF38: =DE38 -> 100 | DG38: =DF38 -> 100 | DH38: =DG38 -> 100 | DI38: =DH38 -> 100 | DJ38: =DI38 -> 100 | DK38: =DJ38 -> 100 | DL38: =DK38 -> 100 | ... DS38: =DR38 -> 100 | DT38: =IF('Input Sheet'!$D$23="Good",100,IF('Input Sheet'!$D$23="Average",70,IF('Input Sheet'!$D$23="Poor",55))) -> 100 | DU38: =DT38 -> 100 | DV38: =DT38 -> 100 | DW38: =DV38 -> 100 | DX38: =DW38 -> 100 | DY38: =DX38 -> 100 | DZ38: =DY38 -> 100 | EA38: =DZ38 -> 100 | EB38: =EA38 -> 100 | EC38: =EB38 -> 100 | ED38: =EC38 -> 100 | ... EX38: =EW38 -> 100 | EY38: =IF('Input Sheet'!$D$23="Good",100,IF('Input Sheet'!$D$23="Average",70,IF('Input Sheet'!$D$23="Poor",55))) -> 100 | EZ38: =EY38 -> 100 | FA38: =EY38 -> 100 | FB38: =FA38 -> 100 | FC38: =FB38 -> 100 | FD38: =FC38 -> 100 | FE38: =FD38 -> 100 | FF38: =FE38 -> 100 | FG38: =FF38 -> 100 | FH38: =FG38 -> 100 | FI38: =FH38 -> 100 | ... GC38: =GB38 -> 100 | GD38: =IF('Input Sheet'!$D$23="Good",100,IF('Input Sheet'!$D$23="Average",70,IF('Input Sheet'!$D$23="Poor",55))) -> 100 | GE38: =GD38 -> 100 | GF38: =GE38 -> 100 | GG38: =GF38 -> 100 | GH38: =GG38 -> 100 | GI38: =GH38 -> 100 | GJ38: =GI38 -> 100 | GK38: =GJ38 -> 100 | GL38: =GK38 -> 100 | ... HF38: =HE38 -> 100 | HG38: =IF('Input Sheet'!$D$23="Good",250,IF('Input Sheet'!$D$23="Average",175,IF('Input Sheet'!$D$23="Poor",135))) -> 250 | HH38: =HG38 -> 250 | HI38: =HH38 -> 250 | HJ38: =HI38 -> 250 | HK38: =HJ38 -> 250 | HL38: =HK38 -> 250 | HM38: =HL38 -> 250 | HN38: =HM38 -> 250 | HO38: =HN38 -> 250 | ... IK38: =IJ38 -> 250 | IL38: =IF('Input Sheet'!$D$23="Good",250,IF('Input Sheet'!$D$23="Average",175,IF('Input Sheet'!$D$23="Poor",135))) -> 250 | IM38: =IL38 -> 250 | IN38: =IM38 -> 250 | IO38: =IN38 -> 250 | IP38: =IO38 -> 250 | IQ38: =IP38 -> 250 | IR38: =IQ38 -> 250 | IS38: =IR38 -> 250 | IT38: =IS38 -> 250 | ... JO38: =JN38 -> 250 | JP38: =IF('Input Sheet'!$D$23="Good",250,IF('Input Sheet'!$D$23="Average",175,IF('Input Sheet'!$D$23="Poor",135))) -> 250 | JQ38: =JP38 -> 250 | JR38: =JQ38 -> 250 | JS38: =JR38 -> 250 | JT38: =JS38 -> 250 | JU38: =JT38 -> 250 | JV38: =JU38 -> 250 | JW38: =JV38 -> 250 | JX38: =JW38 -> 250 | ... SY38: =SX38 -> 250
A39: Grass (Scotchl Ram) | B39: =IF('Input Sheet'!$D$23="Good",115,IF('Input Sheet'!$D$23="Average",90,IF('Input Sheet'!$D$23="Poor",55))) -> 115 | C39: =B39 -> 115 | D39: =C39 -> 115 | E39: =D39 -> 115 | F39: =E39 -> 115 | G39: =F39 -> 115 | H39: =G39 -> 115 | I39: =H39 -> 115 | J39: =I39 -> 115 | ... AF39: =AE39 -> 115 | AG39: =IF('Input Sheet'!$D$23="Good",115,IF('Input Sheet'!$D$23="Average",90,IF('Input Sheet'!$D$23="Poor",55))) -> 115 | AH39: =AG39 -> 115 | AI39: =AH39 -> 115 | AJ39: =AI39 -> 115 | AK39: =AJ39 -> 115 | AL39: =AK39 -> 115 | AM39: =AL39 -> 115 | AN39: =AM39 -> 115 | AO39: =AN39 -> 115 | ... BJ39: =BI39 -> 115 | BK39: =IF('Input Sheet'!$D$23="Good",80,IF('Input Sheet'!$D$23="Average",60,IF('Input Sheet'!$D$23="Poor",40))) -> 80 | BL39: =BK39 -> 80 | BM39: =BK39 -> 80 | BN39: =BM39 -> 80 | BO39: =BN39 -> 80 | BP39: =BO39 -> 80 | BQ39: =BP39 -> 80 | BR39: =BQ39 -> 80 | BS39: =BR39 -> 80 | BT39: =BS39 -> 80 | BU39: =BT39 -> 80 | ... DC39: =DB39 -> 80 | DD39: =IF('Input Sheet'!$D$23="Good",80,IF('Input Sheet'!$D$23="Average",60,IF('Input Sheet'!$D$23="Poor",40))) -> 80 | DE39: =DD39 -> 80 | DF39: =DE39 -> 80 | DG39: =DF39 -> 80 | DH39: =DG39 -> 80 | DI39: =DH39 -> 80 | DJ39: =DI39 -> 80 | DK39: =DJ39 -> 80 | DL39: =DK39 -> 80 | ... DS39: =DR39 -> 80 | DT39: =IF('Input Sheet'!$D$23="Good",80,IF('Input Sheet'!$D$23="Average",60,IF('Input Sheet'!$D$23="Poor",40))) -> 80 | DU39: =DT39 -> 80 | DV39: =DT39 -> 80 | DW39: =DV39 -> 80 | DX39: =DW39 -> 80 | DY39: =DX39 -> 80 | DZ39: =DY39 -> 80 | EA39: =DZ39 -> 80 | EB39: =EA39 -> 80 | EC39: =EB39 -> 80 | ED39: =EC39 -> 80 | ... EX39: =EW39 -> 80 | EY39: =EY38*0.8 -> 80 | EZ39: =EY39 -> 80 | FA39: =EY39 -> 80 | FB39: =FA39 -> 80 | FC39: =FB39 -> 80 | FD39: =FC39 -> 80 | FE39: =FD39 -> 80 | FF39: =FE39 -> 80 | FG39: =FF39 -> 80 | FH39: =FG39 -> 80 | FI39: =FH39 -> 80 | ... GC39: =GB39 -> 80 | GD39: =GD38*0.8 -> 80 | GE39: =GD39 -> 80 | GF39: =GE39 -> 80 | GG39: =GF39 -> 80 | GH39: =GG39 -> 80 | GI39: =GH39 -> 80 | GJ39: =GI39 -> 80 | GK39: =GJ39 -> 80 | GL39: =GK39 -> 80 | ... HF39: =HE39 -> 80 | HG39: =HG38*0.8 -> 200 | HH39: =HH38*0.8 -> 200 | HI39: =HI38*0.8 -> 200 | HJ39: =HJ38*0.8 -> 200 | HK39: =HK38*0.8 -> 200 | HL39: =HL38*0.8 -> 200 | HM39: =HM38*0.8 -> 200 | HN39: =HN38*0.8 -> 200 | ... SY39: =SY38*0.8 -> 200
A40: Grass (Texel Wether) | B40: =B38*0.9 -> 135 | C40: =B40 -> 135 | D40: =C40 -> 135 | E40: =D40 -> 135 | F40: =E40 -> 135 | G40: =F40 -> 135 | H40: =G40 -> 135 | I40: =H40 -> 135 | J40: =I40 -> 135 | ... AF40: =AE40 -> 135 | AG40: =AG38*0.95 -> 142.5 | AH40: =AG40 -> 142.5 | AI40: =AH40 -> 142.5 | AJ40: =AI40 -> 142.5 | AK40: =AJ40 -> 142.5 | AL40: =AK40 -> 142.5 | AM40: =AL40 -> 142.5 | AN40: =AM40 -> 142.5 | AO40: =AN40 -> 142.5 | ... BJ40: =BI40 -> 142.5 | BK40: =BK38*0.95 -> 95 | BL40: =BK40 -> 95 | BM40: =BK40 -> 95 | BN40: =BM40 -> 95 | BO40: =BN40 -> 95 | BP40: =BO40 -> 95 | BQ40: =BP40 -> 95 | BR40: =BQ40 -> 95 | BS40: =BR40 -> 95 | BT40: =BS40 -> 95 | BU40: =BT40 -> 95 | ... DC40: =DB40 -> 95 | DD40: =DD38*0.95 -> 95 | DE40: =DD40 -> 95 | DF40: =DE40 -> 95 | DG40: =DF40 -> 95 | DH40: =DG40 -> 95 | DI40: =DH40 -> 95 | DJ40: =DI40 -> 95 | DK40: =DJ40 -> 95 | DL40: =DK40 -> 95 | ... DS40: =DR40 -> 95 | DT40: =DT38*0.95 -> 95 | DU40: =DT40 -> 95 | DV40: =DT40 -> 95 | DW40: =DV40 -> 95 | DX40: =DW40 -> 95 | DY40: =DX40 -> 95 | DZ40: =DY40 -> 95 | EA40: =DZ40 -> 95 | EB40: =EA40 -> 95 | EC40: =EB40 -> 95 | ED40: =EC40 -> 95 | ... EX40: =EW40 -> 95 | EY40: =EY38*0.95 -> 95 | EZ40: =EY40 -> 95 | FA40: =EY40 -> 95 | FB40: =FA40 -> 95 | FC40: =FB40 -> 95 | FD40: =FC40 -> 95 | FE40: =FD40 -> 95 | FF40: =FE40 -> 95 | FG40: =FF40 -> 95 | FH40: =FG40 -> 95 | FI40: =FH40 -> 95 | ... GC40: =GB40 -> 95 | GD40: =GD38*0.95 -> 95 | GE40: =GD40 -> 95 | GF40: =GE40 -> 95 | GG40: =GF40 -> 95 | GH40: =GG40 -> 95 | GI40: =GH40 -> 95 | GJ40: =GI40 -> 95 | GK40: =GJ40 -> 95 | GL40: =GK40 -> 95 | ... HE40: =HD40 -> 95 | HF40: =HF38*0.95 -> 95 | HG40: =HG38*0.95 -> 237.5 | HH40: =HG40 -> 237.5 | HI40: =HH40 -> 237.5 | HJ40: =HI40 -> 237.5 | HK40: =HJ40 -> 237.5 | HL40: =HK40 -> 237.5 | HM40: =HL40 -> 237.5 | HN40: =HM40 -> 237.5 | HO40: =HN40 -> 237.5 | ... IK40: =IJ40 -> 237.5 | IL40: =IL38*0.95 -> 237.5 | IM40: =IL40 -> 237.5 | IN40: =IM40 -> 237.5 | IO40: =IN40 -> 237.5 | IP40: =IO40 -> 237.5 | IQ40: =IP40 -> 237.5 | IR40: =IQ40 -> 237.5 | IS40: =IR40 -> 237.5 | IT40: =IS40 -> 237.5 | ... JO40: =JN40 -> 237.5 | JP40: =JP38*0.95 -> 237.5 | JQ40: =JP40 -> 237.5 | JR40: =JQ40 -> 237.5 | JS40: =JR40 -> 237.5 | JT40: =JS40 -> 237.5 | JU40: =JT40 -> 237.5 | JV40: =JU40 -> 237.5 | JW40: =JV40 -> 237.5 | JX40: =JW40 -> 237.5 | ... SY40: =SX40 -> 237.5
A41: Grass (Scotch Wether) | B41: =B39*0.9 -> 103.5 | C41: =C39*0.9 -> 103.5 | D41: =D39*0.9 -> 103.5 | E41: =E39*0.9 -> 103.5 | F41: =F39*0.9 -> 103.5 | G41: =G39*0.9 -> 103.5 | H41: =H39*0.9 -> 103.5 | I41: =I39*0.9 -> 103.5 | ... SY41: =SY39*0.9 -> 180
A42: Grass (Texel Ewe) | B42: =B38*0.9 -> 135 | C42: =B42 -> 135 | D42: =C42 -> 135 | E42: =D42 -> 135 | F42: =E42 -> 135 | G42: =F42 -> 135 | H42: =G42 -> 135 | I42: =H42 -> 135 | J42: =I42 -> 135 | ... AF42: =AE42 -> 135 | AG42: =AG38*0.9 -> 135 | AH42: =AG42 -> 135 | AI42: =AH42 -> 135 | AJ42: =AI42 -> 135 | AK42: =AJ42 -> 135 | AL42: =AK42 -> 135 | AM42: =AL42 -> 135 | AN42: =AM42 -> 135 | AO42: =AN42 -> 135 | ... BJ42: =BI42 -> 135 | BK42: =BK38*0.9 -> 90 | BL42: =BK42 -> 90 | BM42: =BK42 -> 90 | BN42: =BM42 -> 90 | BO42: =BN42 -> 90 | BP42: =BO42 -> 90 | BQ42: =BP42 -> 90 | BR42: =BQ42 -> 90 | BS42: =BR42 -> 90 | BT42: =BS42 -> 90 | BU42: =BT42 -> 90 | ... DC42: =DB42 -> 90 | DD42: =DD38*0.9 -> 90 | DE42: =DD42 -> 90 | DF42: =DE42 -> 90 | DG42: =DF42 -> 90 | DH42: =DG42 -> 90 | DI42: =DH42 -> 90 | DJ42: =DI42 -> 90 | DK42: =DJ42 -> 90 | DL42: =DK42 -> 90 | ... DS42: =DR42 -> 90 | DT42: =DT38*0.9 -> 90 | DU42: =DT42 -> 90 | DV42: =DT42 -> 90 | DW42: =DV42 -> 90 | DX42: =DW42 -> 90 | DY42: =DX42 -> 90 | DZ42: =DY42 -> 90 | EA42: =DZ42 -> 90 | EB42: =EA42 -> 90 | EC42: =EB42 -> 90 | ED42: =EC42 -> 90 | ... EX42: =EW42 -> 90 | EY42: =EY38*0.9 -> 90 | EZ42: =EY42 -> 90 | FA42: =EY42 -> 90 | FB42: =FA42 -> 90 | FC42: =FB42 -> 90 | FD42: =FC42 -> 90 | FE42: =FD42 -> 90 | FF42: =FE42 -> 90 | FG42: =FF42 -> 90 | FH42: =FG42 -> 90 | FI42: =FH42 -> 90 | ... GC42: =GB42 -> 90 | GD42: =GD38*0.9 -> 90 | GE42: =GD42 -> 90 | GF42: =GE42 -> 90 | GG42: =GF42 -> 90 | GH42: =GG42 -> 90 | GI42: =GH42 -> 90 | GJ42: =GI42 -> 90 | GK42: =GJ42 -> 90 | GL42: =GK42 -> 90 | ... HE42: =HD42 -> 90 | HF42: =HF38*0.9 -> 90 | HG42: =HG38*0.9 -> 225 | HH42: =HG42 -> 225 | HI42: =HH42 -> 225 | HJ42: =HI42 -> 225 | HK42: =HJ42 -> 225 | HL42: =HK42 -> 225 | HM42: =HL42 -> 225 | HN42: =HM42 -> 225 | HO42: =HN42 -> 225 | ... IK42: =IJ42 -> 225 | IL42: =IL38*0.9 -> 225 | IM42: =IL42 -> 225 | IN42: =IM42 -> 225 | IO42: =IN42 -> 225 | IP42: =IO42 -> 225 | IQ42: =IP42 -> 225 | IR42: =IQ42 -> 225 | IS42: =IR42 -> 225 | IT42: =IS42 -> 225 | ... JO42: =JN42 -> 225 | JP42: =JP38*0.9 -> 225 | JQ42: =JP42 -> 225 | JR42: =JQ42 -> 225 | JS42: =JR42 -> 225 | JT42: =JS42 -> 225 | JU42: =JT42 -> 225 | JV42: =JU42 -> 225 | JW42: =JV42 -> 225 | JX42: =JW42 -> 225 | ... SY42: =SX42 -> 225
A43: Grass (Scotch ewe) | B43: =B39*0.9 -> 103.5 | C43: =C39*0.9 -> 103.5 | D43: =D39*0.9 -> 103.5 | E43: =E39*0.9 -> 103.5 | F43: =F39*0.9 -> 103.5 | G43: =G39*0.9 -> 103.5 | H43: =H39*0.9 -> 103.5 | I43: =I39*0.9 -> 103.5 | ... SY43: =SY39*0.9 -> 180
...
